BEGIN:VCALENDAR
VERSION:2.0
PRODID:-//Website Events//NONSGML v1.0//DE
CALSCALE:GREGORIAN
METHOD:PUBLISH
BEGIN:VEVENT
UID:20260415-grp1-event01
DTSTART:20260415T160000
DTEND:20260415T180000
SUMMARY:Kreativwerkstatt (Gruppe 1)
DESCRIPTION:Offene Werkstatt: Zur Ruhe kommen und Gefühle ausdrücken.\n\nExperimentieren mit Farben und Formen ohne Leistungsdruck. Es geht um den persönlichen Zugang zu sich selbst, Achtsamkeit und emotionale Entlastung.\n\nOrt: Haus der Künste, Mollerstr. 23–28
LOCATION:Haus der Künste, Mollerstr. 23–28, 64298 Darmstadt
STATUS:CONFIRMED
END:VEVENT
BEGIN:VEVENT
UID:20260422-grp1-event02
DTSTART:20260422T160000
DTEND:20260422T180000
SUMMARY:Kreativwerkstatt (Gruppe 1)
DESCRIPTION:Offene Werkstatt: Zur Ruhe kommen und Gefühle ausdrücken.\n\nOrt: Haus der Künste, Mollerstr. 23–28
LOCATION:Haus der Künste, Mollerstr. 23–28, 64298 Darmstadt
STATUS:CONFIRMED
END:VEVENT
BEGIN:VEVENT
UID:20260429-grp1-event03
DTSTART:20260429T160000
DTEND:20260429T180000
SUMMARY:Kreativwerkstatt (Gruppe 1)
DESCRIPTION:Offene Werkstatt: Zur Ruhe kommen und Gefühle ausdrücken.\n\nOrt: Haus der Künste, Mollerstr. 23–28
LOCATION:Haus der Künste, Mollerstr. 23–28, 64298 Darmstadt
STATUS:CONFIRMED
END:VEVENT
BEGIN:VEVENT
UID:20260506-grp1-event04
DTSTART:20260506T160000
DTEND:20260506T180000
SUMMARY:Kreativwerkstatt (Gruppe 1)
DESCRIPTION:Offene Werkstatt: Zur Ruhe kommen und Gefühle ausdrücken.\n\nOrt: Haus der Künste, Mollerstr. 23–28
LOCATION:Haus der Künste, Mollerstr. 23–28, 64298 Darmstadt
STATUS:CONFIRMED
END:VEVENT
BEGIN:VEVENT
UID:20260513-grp1-event05
DTSTART:20260513T160000
DTEND:20260513T180000
SUMMARY:Kreativwerkstatt (Gruppe 1)
DESCRIPTION:Offene Werkstatt: Zur Ruhe kommen und Gefühle ausdrücken.\n\nOrt: Haus der Künste, Mollerstr. 23–28
LOCATION:Haus der Künste, Mollerstr. 23–28, 64298 Darmstadt
STATUS:CONFIRMED
END:VEVENT
BEGIN:VEVENT
UID:20260520-grp1-event06
DTSTART:20260520T160000
DTEND:20260520T180000
SUMMARY:Kreativwerkstatt (Gruppe 1)
DESCRIPTION:Offene Werkstatt: Zur Ruhe kommen und Gefühle ausdrücken.\n\nOrt: Haus der Künste, Mollerstr. 23–28
LOCATION:Haus der Künste, Mollerstr. 23–28, 64298 Darmstadt
STATUS:CONFIRMED
END:VEVENT
BEGIN:VEVENT
UID:20260527-grp1-event07
DTSTART:20260527T160000
DTEND:20260527T180000
SUMMARY:Kreativwerkstatt (Gruppe 1)
DESCRIPTION:Offene Werkstatt: Zur Ruhe kommen und Gefühle ausdrücken.\n\nOrt: Haus der Künste, Mollerstr. 23–28
LOCATION:Haus der Künste, Mollerstr. 23–28, 64298 Darmstadt
STATUS:CONFIRMED
END:VEVENT
BEGIN:VEVENT
UID:20260603-grp1-event08
DTSTART:20260603T160000
DTEND:20260603T180000
SUMMARY:Kreativwerkstatt (Gruppe 1)
DESCRIPTION:Offene Werkstatt: Zur Ruhe kommen und Gefühle ausdrücken.\n\nOrt: Haus der Künste, Mollerstr. 23–28
LOCATION:Haus der Künste, Mollerstr. 23–28, 64298 Darmstadt
STATUS:CONFIRMED
END:VEVENT
BEGIN:VEVENT
UID:20260610-grp1-event09
DTSTART:20260610T160000
DTEND:20260610T180000
SUMMARY:Kreativwerkstatt (Gruppe 1)
DESCRIPTION:Offene Werkstatt: Zur Ruhe kommen und Gefühle ausdrücken.\n\nOrt: Haus der Künste, Mollerstr. 23–28
LOCATION:Haus der Künste, Mollerstr. 23–28, 64298 Darmstadt
STATUS:CONFIRMED
END:VEVENT
BEGIN:VEVENT
UID:20260617-grp1-event10
DTSTART:20260617T160000
DTEND:20260617T180000
SUMMARY:Kreativwerkstatt (Gruppe 1)
DESCRIPTION:Offene Werkstatt: Zur Ruhe kommen und Gefühle ausdrücken.\n\nOrt: Haus der Künste, Mollerstr. 23–28
LOCATION:Haus der Künste, Mollerstr. 23–28, 64298 Darmstadt
STATUS:CONFIRMED
END:VEVENT
BEGIN:VEVENT
UID:20260624-grp1-event11
DTSTART:20260624T160000
DTEND:20260624T180000
SUMMARY:Kreativwerkstatt (Gruppe 1)
DESCRIPTION:Offene Werkstatt: Zur Ruhe kommen und Gefühle ausdrücken.\n\nOrt: Haus der Künste, Mollerstr. 23–28
LOCATION:Haus der Künste, Mollerstr. 23–28, 64298 Darmstadt
STATUS:CONFIRMED
END:VEVENT
END:VCALENDAR